BEGIN:VCALENDAR
VERSION:2.0
PRODID:-//103.27.34.8//NONSGML kigkonsult.se iCalcreator 2.26.9//
CALSCALE:GREGORIAN
METHOD:PUBLISH
X-WR-CALNAME:Surfers Paradise Outrigger Canoe Club
X-WR-CALDESC:Surfers Paradise QLD
X-FROM-URL:https://surfersparadiseoutriggers.com.au
X-WR-TIMEZONE:Australia/Brisbane
BEGIN:VTIMEZONE
TZID:Australia/Brisbane
X-LIC-LOCATION:Australia/Brisbane
BEGIN:STANDARD
DTSTART:19920301T030000
TZOFFSETFROM:+1100
TZOFFSETTO:+1000
TZNAME:AEST
END:STANDARD
END:VTIMEZONE
BEGIN:VEVENT
UID:ai1ec-799@surfersparadiseoutriggers.com.au
DTSTAMP:20210228T135622Z
CATEGORIES;LANGUAGE=en-AU:Race Meeting
CONTACT:
DESCRIPTION:
DTSTART;VALUE=DATE:20200307
DTEND;VALUE=DATE:20200308
SEQUENCE:0
SUMMARY:SQZ Battle of the Bay Single Regatta
URL:https://surfersparadiseoutriggers.com.au/event/sqz-battle-of-the-bay-si
 ngle-regatta/
X-COST-TYPE:free
END:VEVENT
END:VCALENDAR
