BEGIN:VCALENDAR
VERSION:2.0
PRODID:-//103.27.34.8//NONSGML kigkonsult.se iCalcreator 2.26.9//
CALSCALE:GREGORIAN
METHOD:PUBLISH
X-FROM-URL:https://surfersparadiseoutriggers.com.au
X-WR-TIMEZONE:Australia/Brisbane
BEGIN:VTIMEZONE
TZID:Australia/Brisbane
X-LIC-LOCATION:Australia/Brisbane
BEGIN:STANDARD
DTSTART:19920301T030000
TZOFFSETFROM:+1100
TZOFFSETTO:+1000
TZNAME:AEST
END:STANDARD
END:VTIMEZONE
BEGIN:VEVENT
UID:ai1ec-808@surfersparadiseoutriggers.com.au
DTSTAMP:20210228T141151Z
CATEGORIES;LANGUAGE=en-AU:Training
CONTACT:
DESCRIPTION:
DTSTART;TZID=Australia/Brisbane:20190629T090000
DTEND;TZID=Australia/Brisbane:20190629T100000
LOCATION:Jack Gordon Park @ 1 MacArthur Parade\, Main Beach
SEQUENCE:0
SUMMARY:SPOCC Working Bee/Clean Up of Training Base
URL:https://surfersparadiseoutriggers.com.au/event/spocc-working-bee-clean-
 up-of-training-base/
X-COST-TYPE:free
END:VEVENT
BEGIN:VEVENT
UID:ai1ec-814@surfersparadiseoutriggers.com.au
DTSTAMP:20210228T141151Z
CATEGORIES;LANGUAGE=en-AU:Training
CONTACT:
DESCRIPTION:
DTSTART;TZID=Australia/Brisbane:20190824T163000
DTEND;TZID=Australia/Brisbane:20190824T170000
LOCATION:Jack Gordon Park @ MacArthurs Parade\, Main Beach
SEQUENCE:0
SUMMARY:SPOCC AGM
URL:https://surfersparadiseoutriggers.com.au/event/spocc-agm-3/
X-COST-TYPE:free
END:VEVENT
BEGIN:VEVENT
UID:ai1ec-843@surfersparadiseoutriggers.com.au
DTSTAMP:20210228T141151Z
CATEGORIES;LANGUAGE=en-AU:Training
CONTACT:
DESCRIPTION:
DTSTART;TZID=Australia/Brisbane:20191207T143000
DTEND;TZID=Australia/Brisbane:20191207T163000
SEQUENCE:0
SUMMARY:SPOCC Capsize Drill (Huli) & Swim Test
URL:https://surfersparadiseoutriggers.com.au/event/spocc-capsize-drill-huli
 -swim-test/
X-COST-TYPE:free
END:VEVENT
BEGIN:VEVENT
UID:ai1ec-872@surfersparadiseoutriggers.com.au
DTSTAMP:20210228T141151Z
CATEGORIES;LANGUAGE=en-AU:Training
CONTACT:
DESCRIPTION:
DTSTART;TZID=Australia/Brisbane:20200223T140000
DTEND;TZID=Australia/Brisbane:20200223T153000
SEQUENCE:0
SUMMARY:SPOCC Capsize Drill (Huli) & Swim Test #1
URL:https://surfersparadiseoutriggers.com.au/event/spocc-capsize-drill-huli
 -swim-test-1/
X-COST-TYPE:free
END:VEVENT
BEGIN:VEVENT
UID:ai1ec-873@surfersparadiseoutriggers.com.au
DTSTAMP:20210228T141151Z
CATEGORIES;LANGUAGE=en-AU:Training
CONTACT:
DESCRIPTION:
DTSTART;TZID=Australia/Brisbane:20200229T060000
DTEND;TZID=Australia/Brisbane:20200229T073000
SEQUENCE:0
SUMMARY:SPOCC Capsize Drill (Huli) & Swim Test #2
URL:https://surfersparadiseoutriggers.com.au/event/spocc-capsize-drill-huli
 -swim-test-2/
X-COST-TYPE:free
END:VEVENT
BEGIN:VEVENT
UID:ai1ec-962@surfersparadiseoutriggers.com.au
DTSTAMP:20210228T141151Z
CATEGORIES;LANGUAGE=en-AU:Training
CONTACT:
DESCRIPTION:Training for all club members\nOn water by 5.30am (approx. 1-1.
 5hrs)\nArrive by 5.15am\nWaterways Drive\, Main Beach\, Queensland 4217
DTSTART;TZID=Australia/Brisbane:20201023T053000
DTEND;TZID=Australia/Brisbane:20201023T070000
GEO:-27.97677;+153.423613
LOCATION:Waterways Dr\, Main Beach QLD 4217\, Australia
RRULE:FREQ=WEEKLY;BYDAY=FR;WKST=MO
SEQUENCE:0
SUMMARY:Club Training (Morning)
URL:https://surfersparadiseoutriggers.com.au/event/club-training-morning-2/
X-COST-TYPE:free
X-ALT-DESC;FMTTYPE=text/html:<!DOCTYPE HTML PUBLIC '-//W3C//DTD HTML 3.2//E
 N'>\\n<HTML>\\n<HEAD>\\n<TITLE></TITLE>\\n</HEAD>\\n<BODY><p>Training for 
 all club members</p>\n<p>On water by 5.30am (approx. 1-1.5hrs)</p>\n<p>Arr
 ive by 5.15am</p>\n<p>Waterways Drive\, Main Beach\, Queensland 4217</p>\n
 </BODY></HTML>
END:VEVENT
BEGIN:VEVENT
UID:ai1ec-771@surfersparadiseoutriggers.com.au
DTSTAMP:20210228T141151Z
CATEGORIES;LANGUAGE=en-AU:Training
CONTACT:
DESCRIPTION:Training for all club members\nOn water by 6am (approx. 1.5-2 h
 rs)\nArrive by 5.45am\nWaterways Drive\, Main Beach\, Queensland 4217
DTSTART;TZID=Australia/Brisbane:20201024T060000
DTEND;TZID=Australia/Brisbane:20201024T080000
GEO:-27.97677;+153.423613
LOCATION:Waterways Dr\, Main Beach QLD 4217\, Australia
RRULE:FREQ=WEEKLY;BYDAY=SA;WKST=MO
SEQUENCE:0
SUMMARY:Senior Club Training (Morning)
URL:https://surfersparadiseoutriggers.com.au/event/club-training-morning/
X-COST-TYPE:free
X-ALT-DESC;FMTTYPE=text/html:<!DOCTYPE HTML PUBLIC '-//W3C//DTD HTML 3.2//E
 N'>\\n<HTML>\\n<HEAD>\\n<TITLE></TITLE>\\n</HEAD>\\n<BODY><p>Training for 
 all club members</p>\n<p>On water by 6am (approx. 1.5-2 hrs)</p>\n<p>Arriv
 e by 5.45am</p>\n<p>Waterways Drive\, Main Beach\, Queensland 4217</p>\n</
 BODY></HTML>
END:VEVENT
BEGIN:VEVENT
UID:ai1ec-935@surfersparadiseoutriggers.com.au
DTSTAMP:20210228T141151Z
CATEGORIES;LANGUAGE=en-AU:Training
CONTACT:
DESCRIPTION:Training for all Junior club members (Minnows – U14s)\nOn water
  by 8am (approx. 1-1.25 hrs)\nArrive by 7.45am\nWaterways Drive\, Main Bea
 ch\, Queensland 4217
DTSTART;TZID=Australia/Brisbane:20201025T080000
DTEND;TZID=Australia/Brisbane:20201025T091500
GEO:-27.97677;+153.423613
LOCATION:Waterways Dr\, Main Beach QLD 4217\, Australia
RRULE:FREQ=WEEKLY;BYDAY=SU;WKST=MO
SEQUENCE:0
SUMMARY:Juniors (Minnows – U14s) Club Training (Morning)
URL:https://surfersparadiseoutriggers.com.au/event/juniors-club-training-mo
 rning/
X-COST-TYPE:free
X-ALT-DESC;FMTTYPE=text/html:<!DOCTYPE HTML PUBLIC '-//W3C//DTD HTML 3.2//E
 N'>\\n<HTML>\\n<HEAD>\\n<TITLE></TITLE>\\n</HEAD>\\n<BODY><p>Training for 
 all Junior club members (Minnows – U14s)</p>\n<p>On water by 8am (approx. 
 1-1.25 hrs)</p>\n<p>Arrive by 7.45am</p>\n<p>Waterways Drive\, Main Beach\
 , Queensland 4217</p>\n</BODY></HTML>
END:VEVENT
BEGIN:VEVENT
UID:ai1ec-964@surfersparadiseoutriggers.com.au
DTSTAMP:20210228T141151Z
CATEGORIES;LANGUAGE=en-AU:Training
CONTACT:
DESCRIPTION:Training for all Junior club members (Minnows – U14s)\nOn water
  by 4.30pm (approx. 1 hr)\nArrive by 4.15pm\nWaterways Drive\, Main Beach\
 , Queensland 4217
DTSTART;TZID=Australia/Brisbane:20201027T163000
DTEND;TZID=Australia/Brisbane:20201027T173000
GEO:-27.97677;+153.423613
LOCATION:Waterways Dr\, Main Beach QLD 4217\, Australia
RRULE:FREQ=WEEKLY;BYDAY=TU;WKST=MO
SEQUENCE:0
SUMMARY:Juniors (Minnows – U14s) Club Training (Afternoon)
URL:https://surfersparadiseoutriggers.com.au/event/juniors-minnows-u14s-clu
 b-training-afternoon/
X-COST-TYPE:free
X-ALT-DESC;FMTTYPE=text/html:<!DOCTYPE HTML PUBLIC '-//W3C//DTD HTML 3.2//E
 N'>\\n<HTML>\\n<HEAD>\\n<TITLE></TITLE>\\n</HEAD>\\n<BODY><p>Training for 
 all Junior club members (Minnows – U14s)</p>\n<p>On water by 4.30pm (appro
 x. 1 hr)</p>\n<p>Arrive by 4.15pm</p>\n<p>Waterways Drive\, Main Beach\, Q
 ueensland 4217</p>\n</BODY></HTML>
END:VEVENT
BEGIN:VEVENT
UID:ai1ec-116@surfersparadiseoutriggers.com.au
DTSTAMP:20210228T141151Z
CATEGORIES;LANGUAGE=en-AU:Training
CONTACT:
DESCRIPTION:Training for all club members\nOn water by 5.30pm (approx. 1-1.
 5 hrs)\nArrive by 5.15pm\nWaterways Drive\, Main Beach\, Queensland 4217
DTSTART;TZID=Australia/Brisbane:20201027T173000
DTEND;TZID=Australia/Brisbane:20201027T190000
GEO:-27.97677;+153.423613
LOCATION:Waterways Dr\, Main Beach QLD 4217\, Australia
RRULE:FREQ=WEEKLY;BYDAY=TU,TH;WKST=MO
SEQUENCE:0
SUMMARY:Senior Club Training (Afternoon)
URL:https://surfersparadiseoutriggers.com.au/event/club-training-afternoon/
X-COST-TYPE:free
X-ALT-DESC;FMTTYPE=text/html:<!DOCTYPE HTML PUBLIC '-//W3C//DTD HTML 3.2//E
 N'>\\n<HTML>\\n<HEAD>\\n<TITLE></TITLE>\\n</HEAD>\\n<BODY><p>Training for 
 all club members</p>\n<p>On water by 5.30pm (approx. 1-1.5 hrs)</p>\n<p>Ar
 rive by 5.15pm</p>\n<p>Waterways Drive\, Main Beach\, Queensland 4217</p>
 \n</BODY></HTML>
END:VEVENT
BEGIN:VEVENT
UID:ai1ec-977@surfersparadiseoutriggers.com.au
DTSTAMP:20210228T141151Z
CATEGORIES;LANGUAGE=en-AU:Training
CONTACT:
DESCRIPTION:Pete Dorries Clinic replacing Saturday morning training\n\nDate
 : Sat 31st Oct\nTime: 7:30am to 10:30am\nCost: Free to SPOCC members\n\nIt
  is essential you book for this session as it will fill up fast.\nIf you d
 on’t know Pete\, he consults & runs ‘coach the coaches’ clinics in our spo
 rt & runs paddling clinics across Australia.
DTSTART;TZID=Australia/Brisbane:20201031T073000
DTEND;TZID=Australia/Brisbane:20201031T103000
SEQUENCE:0
SUMMARY:Pete Dorries Clinic
URL:https://surfersparadiseoutriggers.com.au/event/pete-dorries-clinic/
X-COST-TYPE:free
X-ALT-DESC;FMTTYPE=text/html:<!DOCTYPE HTML PUBLIC '-//W3C//DTD HTML 3.2//E
 N'>\\n<HTML>\\n<HEAD>\\n<TITLE></TITLE>\\n</HEAD>\\n<BODY><div class='kvgm
 c6g5 cxmmr5t8 oygrvhab hcukyx3x c1et5uql'>Pete Dorries Clinic replacing Sa
 turday morning training</div>\n<div></div>\n<div class='o9v6fnle cxmmr5t8 
 oygrvhab hcukyx3x c1et5uql'>Date: Sat 31st Oct<br />\nTime: 7:30am to 10:3
 0am<br />\nCost: Free to SPOCC members</div>\n<div></div>\n<div class='o9v
 6fnle cxmmr5t8 oygrvhab hcukyx3x c1et5uql'>It is essential you book for th
 is session as it will fill up fast.</div>\n<div class='o9v6fnle cxmmr5t8 o
 ygrvhab hcukyx3x c1et5uql'>If you don’t know Pete\, he consults & runs ‘co
 ach the coaches’ clinics in our sport & runs paddling clinics across Austr
 alia.</div>\n</BODY></HTML>
END:VEVENT
END:VCALENDAR
